Workbook

Sheet diarias
B1: dezembro | D1: veiculo | N1: valor
A2: placa | B2: data entrada | C2: data saida | D2: carro | E2: moto | F2: caminhao | G2: diarias | H2: TOTAL ATE LIMITE | I2: REAL | J2: carro | K2: moto | L2: pesado | M2: total diaria | N2: guincho | O2: guincho | P2: guincho | Q2: valor | R2: total
A3: qoq1g07 | B3: 44890 | C3: 44896 | E3: 1 | G3: =C3-B3 -> 6 | H3: =IF(G3>=180,180,G3) -> 6 | I3: =(D3*$T$13*H3)+(E3*$T$14*H3)+(F3*$T$15*H3) -> 171.72 | J3: =IF(D3=1,G3*$T$13,0) -> 0 | K3: =IF(E3=1,H3*$T$14,0) -> 171.72 | L3: =IF(F3=1,H3*$T$15,0) -> 0 | M3: =I3 -> 171.72 | N3: =IF(D3=1,$T$8,0) -> 0 | O3: =IF(E3=1,$T$9,0) -> 166.96 | P3: =IF(F3=1,$T$10,0) -> 0 | Q3: =N3+O3+P3 -> 166.96 | R3: =M3+Q3 -> 338.68
A4: guu5361 | B4: 44893 | C4: 44896 | D4: 0 | E4: 0 | F4: 0 | G4: =C4-B4 -> 3 | H4: =IF(G4>=180,180,G4) -> 3 | I4: =(D4*$T$13*H4)+(E4*$T$14*H4)+(F4*$T$15*H4) -> 0 | J4: =IF(D4=1,H4*$T$13,0) -> 0 | K4: =IF(E4=1,H4*$T$14,0) -> 0 | L4: =IF(F4=1,H4*$T$15,0) -> 0 | M4: =I4 -> 0 | N4: =IF(D4=1,$T$8,0) -> 0 | O4: =IF(E4=1,$T$9,0) -> 0 | P4: =IF(F4=1,$T$10,0) -> 0 | Q4: =N4+O4+P4 -> 0 | R4: =M4+Q4 -> 0
A5: hbt4240 | B5: 44887 | C5: 44897 | E5: 1 | G5: =C5-B5 -> 10 | H5: =IF(G5>=180,180,G5) -> 10 | I5: =(D5*$T$13*H5)+(E5*$T$14*H5)+(F5*$T$15*H5) -> 286.2 | J5: =IF(D5=1,H5*$T$13,0) -> 0 | K5: =IF(E5=1,H5*$T$14,0) -> 286.2 | L5: =IF(F5=1,H5*$T$15,0) -> 0 | M5: =I5 -> 286.2 | N5: =IF(D5=1,$T$8,0) -> 0 | O5: =IF(E5=1,$T$9,0) -> 166.96 | P5: =IF(F5=1,$T$10,0) -> 0 | Q5: =N5+O5+P5 -> 166.96 | R5: =M5+Q5 -> 453.16
A6: rux1c81 | B6: 44899 | C6: 44900 | E6: 1 | G6: =C6-B6 -> 1 | H6: =IF(G6>=180,180,G6) -> 1 | I6: =(D6*$T$13*H6)+(E6*$T$14*H6)+(F6*$T$15*H6) -> 28.62 | J6: =IF(D6=1,H6*$T$13,0) -> 0 | K6: =IF(E6=1,H6*$T$14,0) -> 28.62 | L6: =IF(F6=1,H6*$T$15,0) -> 0 | M6: =I6 -> 28.62 | N6: =IF(D6=1,$T$8,0) -> 0 | O6: =IF(E6=1,$T$9,0) -> 166.96 | P6: =IF(F6=1,$T$10,0) -> 0 | Q6: =N6+O6+P6 -> 166.96 | R6: =M6+Q6 -> 195.58
A7: hmo5f63 | B7: 44896 | C7: 44900 | D7: 1 | G7: =C7-B7 -> 4 | H7: =IF(G7>=180,180,G7) -> 4 | I7: =(D7*$T$13*H7)+(E7*$T$14*H7)+(F7*$T$15*H7) -> 190.8 | J7: =IF(D7=1,H7*$T$13,0) -> 190.8 | K7: =IF(E7=1,H7*$T$14,0) -> 0 | L7: =IF(F7=1,H7*$T$15,0) -> 0 | M7: =I7 -> 190.8 | N7: =IF(D7=1,$T$8,0) -> 262.36 | O7: =IF(E7=1,$T$9,0) -> 0 | P7: =IF(F7=1,$T$10,0) -> 0 | Q7: =N7+O7+P7 -> 262.36 | R7: bn | S7: guincho
A8: oxi4330 | B8: 44895 | C8: 44900 | D8: 1 | G8: =C8-B8 -> 5 | H8: =IF(G8>=180,180,G8) -> 5 | I8: =(D8*$T$13*H8)+(E8*$T$14*H8)+(F8*$T$15*H8) -> 238.5 | J8: =IF(D8=1,H8*$T$13,0) -> 238.5 | K8: =IF(E8=1,H8*$T$14,0) -> 0 | L8: =IF(F8=1,H8*$T$15,0) -> 0 | M8: =I8 -> 238.5 | N8: =IF(D8=1,$T$8,0) -> 262.36 | O8: =IF(E8=1,$T$9,0) -> 0 | P8: =IF(F8=1,$T$10,0) -> 0 | Q8: =N8+O8+P8 -> 262.36 | R8: =M8+Q8 -> 500.86 | S8: carro | T8: =entradas!$D$10 -> 262.36
A9: mpb4h14 | B9: 44891 | C9: 44900 | D9: 1 | G9: =C9-B9 -> 9 | H9: =IF(G9>=180,180,G9) -> 9 | I9: =(D9*$T$13*H9)+(E9*$T$14*H9)+(F9*$T$15*H9) -> 429.3 | J9: =IF(D9=1,H9*$T$13,0) -> 429.3 | K9: =IF(E9=1,H9*$T$14,0) -> 0 | L9: =IF(F9=1,H9*$T$15,0) -> 0 | M9: =I9 -> 429.3 | N9: =IF(D9=1,$T$8,0) -> 262.36 | O9: =IF(E9=1,$T$9,0) -> 0 | P9: =IF(F9=1,$T$10,0) -> 0 | Q9: =N9+O9+P9 -> 262.36 | R9: =M9+Q9 -> 691.66 | S9: moto | T9: =entradas!$D$11 -> 166.96
A10: gsm9314 | B10: 44899 | C10: 44900 | D10: 1 | G10: =C10-B10 -> 1 | H10: =IF(G10>=180,180,G10) -> 1 | I10: =(D10*$T$13*H10)+(E10*$T$14*H10)+(F10*$T$15*H10) -> 47.7 | J10: =IF(D10=1,H10*$T$13,0) -> 47.7 | K10: =IF(E10=1,H10*$T$14,0) -> 0 | L10: =IF(F10=1,H10*$T$15,0) -> 0 | M10: =I10 -> 47.7 | N10: =IF(D10=1,$T$8,0) -> 262.36 | O10: =IF(E10=1,$T$9,0) -> 0 | P10: =IF(F10=1,$T$10,0) -> 0 | Q10: =N10+O10+P10 -> 262.36 | R10: =M10+Q10 -> 310.06 | S10: pesado | T10: =entradas!$D$12 -> 348.23
A11: has4965 | B11: 44899 | C11: 44900 | E11: 1 | G11: =C11-B11 -> 1 | H11: =IF(G11>=180,180,G11) -> 1 | I11: =(D11*$T$13*H11)+(E11*$T$14*H11)+(F11*$T$15*H11) -> 28.62 | J11: =IF(D11=1,H11*$T$13,0) -> 0 | K11: =IF(E11=1,H11*$T$14,0) -> 28.62 | L11: =IF(F11=1,H11*$T$15,0) -> 0 | M11: =I11 -> 28.62 | N11: =IF(D11=1,$T$8,0) -> 0 | O11: =IF(E11=1,$T$9,0) -> 166.96 | P11: =IF(F11=1,$T$10,0) -> 0 | Q11: =N11+O11+P11 -> 166.96 | R11: =M11+Q11 -> 195.58
A12: qqj2e08 | B12: 44898 | C12: 44900 | D12: 1 | G12: =C12-B12 -> 2 | H12: =IF(G12>=180,180,G12) -> 2 | I12: =(D12*$T$13*H12)+(E12*$T$14*H12)+(F12*$T$15*H12) -> 95.4 | J12: =IF(D12=1,H12*$T$13,0) -> 95.4 | K12: =IF(E12=1,H12*$T$14,0) -> 0 | L12: =IF(F12=1,H12*$T$15,0) -> 0 | M12: =I12 -> 95.4 | N12: =IF(D12=1,$T$8,0) -> 262.36 | O12: =IF(E12=1,$T$9,0) -> 0 | P12: =IF(F12=1,$T$10,0) -> 0 | Q12: =N12+O12+P12 -> 262.36 | R12: =M12+Q12 -> 357.76 | S12: diaria
A13: hcx2790 | B13: 44650 | C13: 44901 | D13: 0 | E13: 0 | F13: 0 | G13: =C13-B13 -> 251 | H13: =IF(G13>=180,180,G13) -> 180 | I13: =(D13*$T$13*H13)+(E13*$T$14*H13)+(F13*$T$15*H13) -> 0 | J13: =IF(D13=1,H13*$T$13,0) -> 0 | K13: =IF(E13=1,H13*$T$14,0) -> 0 | L13: =IF(F13=1,H13*$T$15,0) -> 0 | M13: =I13 -> 0 | N13: =IF(D13=1,$T$8,0) -> 0 | O13: =IF(E13=1,$T$9,0) -> 0 | P13: =IF(F13=1,$T$10,0) -> 0 | Q13: =N13+O13+P13 -> 0 | R13: =M13+Q13 -> 0 | S13: carro | T13: =entradas!$D$5 -> 47.7
A14: ajq3530 | B14: 44881 | C14: 44901 | D14: 1 | G14: =C14-B14 -> 20 | H14: =IF(G14>=180,180,G14) -> 20 | I14: =(D14*$T$13*H14)+(E14*$T$14*H14)+(F14*$T$15*H14) -> 954 | J14: =IF(D14=1,H14*$T$13,0) -> 954 | K14: =IF(E14=1,H14*$T$14,0) -> 0 | L14: =IF(F14=1,H14*$T$15,0) -> 0 | M14: =I14 -> 954 | N14: =IF(D14=1,$T$8,0) -> 262.36 | O14: =IF(E14=1,$T$9,0) -> 0 | P14: =IF(F14=1,$T$10,0) -> 0 | Q14: =N14+O14+P14 -> 262.36 | R14: =M14+Q14 -> 1216.36 | S14: moto | T14: =entradas!$D$6 -> 28.62
A15: hdh1074 | B15: 44881 | C15: 44901 | D15: 1 | G15: =C15-B15 -> 20 | H15: =IF(G15>=180,180,G15) -> 20 | I15: =(D15*$T$13*H15)+(E15*$T$14*H15)+(F15*$T$15*H15) -> 954 | J15: =IF(D15=1,H15*$T$13,0) -> 954 | K15: =IF(E15=1,H15*$T$14,0) -> 0 | L15: =IF(F15=1,H15*$T$15,0) -> 0 | M15: =I15 -> 954 | N15: =IF(D15=1,$T$8,0) -> 262.36 | O15: =IF(E15=1,$T$9,0) -> 0 | P15: =IF(F15=1,$T$10,0) -> 0 | Q15: =N15+O15+P15 -> 262.36 | R15: =M15+Q15 -> 1216.36 | S15: pesado | T15: =entradas!$D$7 -> 57.24
A16: qqc6f73 | B16: 44898 | C16: 44902 | D16: 1 | G16: =C16-B16 -> 4 | H16: =IF(G16>=180,180,G16) -> 4 | I16: =(D16*$T$13*H16)+(E16*$T$14*H16)+(F16*$T$15*H16) -> 190.8 | J16: =IF(D16=1,H16*$T$13,0) -> 190.8 | K16: =IF(E16=1,H16*$T$14,0) -> 0 | L16: =IF(F16=1,H16*$T$15,0) -> 0 | M16: =I16 -> 190.8 | N16: =IF(D16=1,$T$8,0) -> 262.36 | O16: =IF(E16=1,$T$9,0) -> 0 | P16: =IF(F16=1,$T$10,0) -> 0 | Q16: =N16+O16+P16 -> 262.36 | R16: =M16+Q16 -> 453.16
A17: hme4552 | B17: 44897 | C17: 44902 | E17: 1 | G17: =C17-B17 -> 5 | H17: =IF(G17>=180,180,G17) -> 5 | I17: =(D17*$T$13*H17)+(E17*$T$14*H17)+(F17*$T$15*H17) -> 143.1 | J17: =IF(D17=1,H17*$T$13,0) -> 0 | K17: =IF(E17=1,H17*$T$14,0) -> 143.1 | L17: =IF(F17=1,H17*$T$15,0) -> 0 | M17: =I17 -> 143.1 | N17: =IF(D17=1,$T$8,0) -> 0 | O17: =IF(E17=1,$T$9,0) -> 166.96 | P17: =IF(F17=1,$T$10,0) -> 0 | Q17: =N17+O17+P17 -> 166.96 | R17: =M17+Q17 -> 310.06
A18: hil5864 | B18: 44900 | C18: 44902 | E18: 1 | G18: =C18-B18 -> 2 | H18: =IF(G18>=180,180,G18) -> 2 | I18: =(D18*$T$13*H18)+(E18*$T$14*H18)+(F18*$T$15*H18) -> 57.24 | J18: =IF(D18=1,H18*$T$13,0) -> 0 | K18: =IF(E18=1,H18*$T$14,0) -> 57.24 | L18: =IF(F18=1,H18*$T$15,0) -> 0 | M18: =I18 -> 57.24 | N18: =IF(D18=1,$T$8,0) -> 0 | O18: =IF(E18=1,$T$9,0) -> 166.96 | P18: =IF(F18=1,$T$10,0) -> 0 | Q18: =N18+O18+P18 -> 166.96 | R18: =M18+Q18 -> 224.2
A19: fjk4259 | B19: 44894 | C19: 44902 | D19: 1 | G19: =C19-B19 -> 8 | H19: =IF(G19>=180,180,G19) -> 8 | I19: =(D19*$T$13*H19)+(E19*$T$14*H19)+(F19*$T$15*H19) -> 381.6 | J19: =IF(D19=1,H19*$T$13,0) -> 381.6 | K19: =IF(E19=1,H19*$T$14,0) -> 0 | L19: =IF(F19=1,H19*$T$15,0) -> 0 | M19: =I19 -> 381.6 | N19: =IF(D19=1,$T$8,0) -> 262.36 | O19: =IF(E19=1,$T$9,0) -> 0 | P19: =IF(F19=1,$T$10,0) -> 0 | Q19: =N19+O19+P19 -> 262.36 | R19: =M19+Q19 -> 643.96
A20: jif7e46 | B20: 44900 | C20: 44902 | D20: 1 | G20: =C20-B20 -> 2 | H20: =IF(G20>=180,180,G20) -> 2 | I20: =(D20*$T$13*H20)+(E20*$T$14*H20)+(F20*$T$15*H20) -> 95.4 | J20: =IF(D20=1,H20*$T$13,0) -> 95.4 | K20: =IF(E20=1,H20*$T$14,0) -> 0 | L20: =IF(F20=1,H20*$T$15,0) -> 0 | M20: =I20 -> 95.4 | N20: =IF(D20=1,$T$8,0) -> 262.36 | O20: =IF(E20=1,$T$9,0) -> 0 | P20: =IF(F20=1,$T$10,0) -> 0 | Q20: =N20+O20+P20 -> 262.36 | R20: =M20+Q20 -> 357.76
A21: puc3142 | B21: 44900 | C21: 44902 | D21: 1 | G21: =C21-B21 -> 2 | H21: =IF(G21>=180,180,G21) -> 2 | I21: =(D21*$T$13*H21)+(E21*$T$14*H21)+(F21*$T$15*H21) -> 95.4 | J21: =IF(D21=1,H21*$T$13,0) -> 95.4 | K21: =IF(E21=1,H21*$T$14,0) -> 0 | L21: =IF(F21=1,H21*$T$15,0) -> 0 | M21: =I21 -> 95.4 | N21: =IF(D21=1,$T$8,0) -> 262.36 | O21: =IF(E21=1,$T$9,0) -> 0 | P21: =IF(F21=1,$T$10,0) -> 0 | Q21: =N21+O21+P21 -> 262.36 | R21: =M21+Q21 -> 357.76
A22: nmn38/70 | B22: 44897 | C22: 44899 | D22: 1 | G22: =C22-B22 -> 2 | H22: =IF(G22>=180,180,G22) -> 2 | I22: =(D22*$T$13*H22)+(E22*$T$14*H22)+(F22*$T$15*H22) -> 95.4 | J22: =IF(D22=1,H22*$T$13,0) -> 95.4 | K22: =IF(E22=1,H22*$T$14,0) -> 0 | L22: =IF(F22=1,H22*$T$15,0) -> 0 | M22: =I22 -> 95.4 | N22: =IF(D22=1,$T$8,0) -> 262.36 | O22: =IF(E22=1,$T$9,0) -> 0 | P22: =IF(F22=1,$T$10,0) -> 0 | Q22: =N22+O22+P22 -> 262.36 | R22: =M22+Q22 -> 357.76
A23: grm0130 | B23: 43902 | C23: 44902 | F23: 1 | G23: =C23-B23 -> 1000 | H23: =IF(G23>=180,180,G23) -> 180 | I23: =(D23*$T$13*H23)+(E23*$T$14*H23)+(F23*$T$15*H23) -> 10303.2 | J23: =IF(D23=1,H23*$T$13,0) -> 0 | K23: =IF(E23=1,H23*$T$14,0) -> 0 | L23: =IF(F23=1,H23*$T$15,0) -> 10303.2 | M23: =I23 -> 10303.2 | N23: =IF(D23=1,$T$8,0) -> 0 | O23: =IF(E23=1,$T$9,0) -> 0 | P23: =IF(F23=1,$T$10,0) -> 348.23 | Q23: =N23+O23+P23 -> 348.23 | R23: =M23+Q23 -> 10651.43 | U23: Caminhão do Salvador / Pagou 9.000,00
A24: qug1790 | B24: 44900 | C24: 44903 | D24: 1 | G24: =C24-B24 -> 3 | H24: =IF(G24>=180,180,G24) -> 3 | I24: =(D24*$T$13*H24)+(E24*$T$14*H24)+(F24*$T$15*H24) -> 143.1 | J24: =IF(D24=1,H24*$T$13,0) -> 143.1 | K24: =IF(E24=1,H24*$T$14,0) -> 0 | L24: =IF(F24=1,H24*$T$15,0) -> 0 | M24: =I24 -> 143.1 | N24: =IF(D24=1,$T$8,0) -> 262.36 | O24: =IF(E24=1,$T$9,0) -> 0 | P24: =IF(F24=1,$T$10,0) -> 0 | Q24: =N24+O24+P24 -> 262.36 | R24: =M24+Q24 -> 405.46
A25: hkm5837 | B25: 44897 | C25: 44903 | D25: 0 | E25: 0 | F25: 0 | G25: =C25-B25 -> 6 | H25: =IF(G25>=180,180,G25) -> 6 | I25: =(D25*$T$13*H25)+(E25*$T$14*H25)+(F25*$T$15*H25) -> 0 | J25: =IF(D25=1,H25*$T$13,0) -> 0 | K25: =IF(E25=1,H25*$T$14,0) -> 0 | L25: =IF(F25=1,H25*$T$15,0) -> 0 | M25: =I25 -> 0 | N25: =IF(D25=1,$T$8,0) -> 0 | O25: =IF(E25=1,$T$9,0) -> 0 | P25: =IF(F25=1,$T$10,0) -> 0 | Q25: =N25+O25+P25 -> 0 | R25: =M25+Q25 -> 0
A26: qww4h20 | B26: 44897 | C26: 44903 | D26: 0 | E26: 0 | F26: 0 | G26: =C26-B26 -> 6 | H26: =IF(G26>=180,180,G26) -> 6 | I26: =(D26*$T$13*H26)+(E26*$T$14*H26)+(F26*$T$15*H26) -> 0 | J26: =IF(D26=1,H26*$T$13,0) -> 0 | K26: =IF(E26=1,H26*$T$14,0) -> 0 | L26: =IF(F26=1,H26*$T$15,0) -> 0 | M26: =I26 -> 0 | N26: =IF(D26=1,$T$8,0) -> 0 | O26: =IF(E26=1,$T$9,0) -> 0 | P26: =IF(F26=1,$T$10,0) -> 0 | Q26: =N26+O26+P26 -> 0 | R26: =M26+Q26 -> 0
A27: rnu8c32 | B27: 44898 | C27: 44903 | D27: 0 | E27: 0 | F27: 0 | G27: =C27-B27 -> 5 | H27: =IF(G27>=180,180,G27) -> 5 | I27: =(D27*$T$13*H27)+(E27*$T$14*H27)+(F27*$T$15*H27) -> 0 | J27: =IF(D27=1,H27*$T$13,0) -> 0 | K27: =IF(E27=1,H27*$T$14,0) -> 0 | L27: =IF(F27=1,H27*$T$15,0) -> 0 | M27: =I27 -> 0 | N27: =IF(D27=1,$T$8,0) -> 0 | O27: =IF(E27=1,$T$9,0) -> 0 | P27: =IF(F27=1,$T$10,0) -> 0 | Q27: =N27+O27+P27 -> 0 | R27: =M27+Q27 -> 0
A28: hbt4224 | B28: 44895 | C28: 44904 | E28: 1 | G28: =C28-B28 -> 9 | H28: =IF(G28>=180,180,G28) -> 9 | I28: =(D28*$T$13*H28)+(E28*$T$14*H28)+(F28*$T$15*H28) -> 257.58 | J28: =IF(D28=1,H28*$T$13,0) -> 0 | K28: =IF(E28=1,H28*$T$14,0) -> 257.58 | L28: =IF(F28=1,H28*$T$15,0) -> 0 | M28: =I28 -> 257.58 | N28: =IF(D28=1,$T$8,0) -> 0 | O28: =IF(E28=1,$T$9,0) -> 166.96 | P28: =IF(F28=1,$T$10,0) -> 0 | Q28: =N28+O28+P28 -> 166.96 | R28: =M28+Q28 -> 424.54
A29: oxb8813 | B29: 44905 | C29: 44907 | D29: 1 | G29: =C29-B29 -> 2 | H29: =IF(G29>=180,180,G29) -> 2 | I29: =(D29*$T$13*H29)+(E29*$T$14*H29)+(F29*$T$15*H29) -> 95.4 | J29: =IF(D29=1,H29*$T$13,0) -> 95.4 | K29: =IF(E29=1,H29*$T$14,0) -> 0 | L29: =IF(F29=1,H29*$T$15,0) -> 0 | M29: =I29 -> 95.4 | N29: =IF(D29=1,$T$8,0) -> 262.36 | O29: =IF(E29=1,$T$9,0) -> 0 | P29: =IF(F29=1,$T$10,0) -> 0 | Q29: =N29+O29+P29 -> 262.36 | R29: =M29+Q29 -> 357.76
A30: rmg3f11 | B30: 44898 | C30: 44907 | E30: 1 | G30: =C30-B30 -> 9 | H30: =IF(G30>=180,180,G30) -> 9 | I30: =(D30*$T$13*H30)+(E30*$T$14*H30)+(F30*$T$15*H30) -> 257.58 | J30: =IF(D30=1,H30*$T$13,0) -> 0 | K30: =IF(E30=1,H30*$T$14,0) -> 257.58 | L30: =IF(F30=1,H30*$T$15,0) -> 0 | M30: =I30 -> 257.58 | N30: =IF(D30=1,$T$8,0) -> 0 | O30: =IF(E30=1,$T$9,0) -> 166.96 | P30: =IF(F30=1,$T$10,0) -> 0 | Q30: =N30+O30+P30 -> 166.96 | R30: =M30+Q30 -> 424.54
A31: glo1050 | B31: 44874 | C31: 44907 | D31: 1 | G31: =C31-B31 -> 33 | H31: =IF(G31>=180,180,G31) -> 33 | I31: =(D31*$T$13*H31)+(E31*$T$14*H31)+(F31*$T$15*H31) -> 1574.1 | J31: =IF(D31=1,H31*$T$13,0) -> 1574.1 | K31: =IF(E31=1,H31*$T$14,0) -> 0 | L31: =IF(F31=1,H31*$T$15,0) -> 0 | M31: =I31 -> 1574.1 | N31: =IF(D31=1,$T$8,0) -> 262.36 | O31: =IF(E31=1,$T$9,0) -> 0 | P31: =IF(F31=1,$T$10,0) -> 0 | Q31: =N31+O31+P31 -> 262.36 | R31: =M31+Q31 -> 1836.46
A32: flo4h86 | B32: 44907 | C32: 44909 | D32: 1 | G32: =C32-B32 -> 2 | H32: =IF(G32>=180,180,G32) -> 2 | I32: =(D32*$T$13*H32)+(E32*$T$14*H32)+(F32*$T$15*H32) -> 95.4 | J32: =IF(D32=1,H32*$T$13,0) -> 95.4 | K32: =IF(E32=1,H32*$T$14,0) -> 0 | L32: =IF(F32=1,H32*$T$15,0) -> 0 | M32: =I32 -> 95.4 | N32: =IF(D32=1,$T$8,0) -> 262.36 | O32: =IF(E32=1,$T$9,0) -> 0 | P32: =IF(F32=1,$T$10,0) -> 0 | Q32: =N32+O32+P32 -> 262.36 | R32: =M32+Q32 -> 357.76
A33: ltk0085 | B33: 44909 | C33: 44910 | D33: 1 | G33: =C33-B33 -> 1 | H33: =IF(G33>=180,180,G33) -> 1 | I33: =(D33*$T$13*H33)+(E33*$T$14*H33)+(F33*$T$15*H33) -> 47.7 | J33: =IF(D33=1,H33*$T$13,0) -> 47.7 | K33: =IF(E33=1,H33*$T$14,0) -> 0 | L33: =IF(F33=1,H33*$T$15,0) -> 0 | M33: =I33 -> 47.7 | N33: =IF(D33=1,$T$8,0) -> 262.36 | O33: =IF(E33=1,$T$9,0) -> 0 | P33: =IF(F33=1,$T$10,0) -> 0 | Q33: =N33+O33+P33 -> 262.36 | R33: =M33+Q33 -> 310.06
A34: pya4j11 | B34: 44906 | C34: 44910 | E34: 1 | G34: =C34-B34 -> 4 | H34: =IF(G34>=180,180,G34) -> 4 | I34: =(D34*$T$13*H34)+(E34*$T$14*H34)+(F34*$T$15*H34) -> 114.48 | J34: =IF(D34=1,H34*$T$13,0) -> 0 | K34: =IF(E34=1,H34*$T$14,0) -> 114.48 | L34: =IF(F34=1,H34*$T$15,0) -> 0 | M34: =I34 -> 114.48 | N34: =IF(D34=1,$T$8,0) -> 0 | O34: =IF(E34=1,$T$9,0) -> 166.96 | P34: =IF(F34=1,$T$10,0) -> 0 | Q34: =N34+O34+P34 -> 166.96 | R34: =M34+Q34 -> 281.44
A35: euj3158 | B35: 44907 | C35: 44910 | D35: 1 | G35: =C35-B35 -> 3 | H35: =IF(G35>=180,180,G35) -> 3 | I35: =(D35*$T$13*H35)+(E35*$T$14*H35)+(F35*$T$15*H35) -> 143.1 | J35: =IF(D35=1,H35*$T$13,0) -> 143.1 | K35: =IF(E35=1,H35*$T$14,0) -> 0 | L35: =IF(F35=1,H35*$T$15,0) -> 0 | M35: =I35 -> 143.1 | N35: =IF(D35=1,$T$8,0) -> 262.36 | O35: =IF(E35=1,$T$9,0) -> 0 | P35: =IF(F35=1,$T$10,0) -> 0 | Q35: =N35+O35+P35 -> 262.36 | R35: =M35+Q35 -> 405.46
A36: rbi7058 | B36: 44898 | C36: 44910 | E36: 1 | G36: =C36-B36 -> 12 | H36: =IF(G36>=180,180,G36) -> 12 | I36: =(D36*$T$13*H36)+(E36*$T$14*H36)+(F36*$T$15*H36) -> 343.44 | J36: =IF(D36=1,H36*$T$13,0) -> 0 | K36: =IF(E36=1,H36*$T$14,0) -> 343.44 | L36: =IF(F36=1,H36*$T$15,0) -> 0 | M36: =I36 -> 343.44 | N36: =IF(D36=1,$T$8,0) -> 0 | O36: =IF(E36=1,$T$9,0) -> 166.96 | P36: =IF(F36=1,$T$10,0) -> 0 | Q36: =N36+O36+P36 -> 166.96 | R36: =M36+Q36 -> 510.4
A37: rmp8c87 | B37: 44910 | C37: 44911 | E37: 1 | G37: =C37-B37 -> 1 | H37: =IF(G37>=180,180,G37) -> 1 | I37: =(D37*$T$13*H37)+(E37*$T$14*H37)+(F37*$T$15*H37) -> 28.62 | J37: =IF(D37=1,H37*$T$13,0) -> 0 | K37: =IF(E37=1,H37*$T$14,0) -> 28.62 | L37: =IF(F37=1,H37*$T$15,0) -> 0 | M37: =I37 -> 28.62 | N37: =IF(D37=1,$T$8,0) -> 0 | O37: =IF(E37=1,$T$9,0) -> 166.96 | P37: =IF(F37=1,$T$10,0) -> 0 | Q37: =N37+O37+P37 -> 166.96 | R37: =M37+Q37 -> 195.58
A38: qps0673 | B38: 44899 | C38: 44911 | D38: 1 | G38: =C38-B38 -> 12 | H38: =IF(G38>=180,180,G38) -> 12 | I38: =(D38*$T$13*H38)+(E38*$T$14*H38)+(F38*$T$15*H38) -> 572.4 | J38: =IF(D38=1,H38*$T$13,0) -> 572.4 | K38: =IF(E38=1,H38*$T$14,0) -> 0 | L38: =IF(F38=1,H38*$T$15,0) -> 0 | M38: =I38 -> 572.4 | N38: =IF(D38=1,$T$8,0) -> 262.36 | O38: =IF(E38=1,$T$9,0) -> 0 | P38: =IF(F38=1,$T$10,0) -> 0 | Q38: =N38+O38+P38 -> 262.36 | R38: =M38+Q38 -> 834.76
A39: grz5101 | B39: 44910 | C39: 44915 | D39: 0 | E39: 0 | F39: 0 | G39: =C39-B39 -> 5 | H39: =IF(G39>=180,180,G39) -> 5 | I39: =(D39*$T$13*H39)+(E39*$T$14*H39)+(F39*$T$15*H39) -> 0 | J39: =IF(D39=1,H39*$T$13,0) -> 0 | K39: =IF(E39=1,H39*$T$14,0) -> 0 | L39: =IF(F39=1,H39*$T$15,0) -> 0 | M39: =I39 -> 0 | N39: =IF(D39=1,$T$8,0) -> 0 | O39: =IF(E39=1,$T$9,0) -> 0 | P39: =IF(F39=1,$T$10,0) -> 0 | Q39: =N39+O39+P39 -> 0 | R39: =M39+Q39 -> 0
A40: guv5861 | B40: 44910 | C40: 44915 | D40: 1 | G40: =C40-B40 -> 5 | H40: =IF(G40>=180,180,G40) -> 5 | I40: =(D40*$T$13*H40)+(E40*$T$14*H40)+(F40*$T$15*H40) -> 238.5 | J40: =IF(D40=1,H40*$T$13,0) -> 238.5 | K40: =IF(E40=1,H40*$T$14,0) -> 0 | L40: =IF(F40=1,H40*$T$15,0) -> 0 | M40: =I40 -> 238.5 | N40: =IF(D40=1,$T$8,0) -> 262.36 | O40: =IF(E40=1,$T$9,0) -> 0 | P40: =IF(F40=1,$T$10,0) -> 0 | Q40: =N40+O40+P40 -> 262.36 | R40: =M40+Q40 -> 500.86
A41: rga5i11 | B41: 44912 | C41: 44915 | E41: 1 | G41: =C41-B41 -> 3 | H41: =IF(G41>=180,180,G41) -> 3 | I41: =(D41*$T$13*H41)+(E41*$T$14*H41)+(F41*$T$15*H41) -> 85.86 | J41: =IF(D41=1,H41*$T$13,0) -> 0 | K41: =IF(E41=1,H41*$T$14,0) -> 85.86 | L41: =IF(F41=1,H41*$T$15,0) -> 0 | M41: =I41 -> 85.86 | N41: =IF(D41=1,$T$8,0) -> 0 | O41: =IF(E41=1,$T$9,0) -> 166.96 | P41: =IF(F41=1,$T$10,0) -> 0 | Q41: =N41+O41+P41 -> 166.96 | R41: =M41+Q41 -> 252.82
A42: hhg4596 | B42: 44911 | C42: 44916 | D42: 1 | G42: =C42-B42 -> 5 | H42: =IF(G42>=180,180,G42) -> 5 | I42: =(D42*$T$13*H42)+(E42*$T$14*H42)+(F42*$T$15*H42) -> 238.5 | J42: =IF(D42=1,H42*$T$13,0) -> 238.5 | K42: =IF(E42=1,H42*$T$14,0) -> 0 | L42: =IF(F42=1,H42*$T$15,0) -> 0 | M42: =I42 -> 238.5 | N42: =IF(D42=1,$T$8,0) -> 262.36 | O42: =IF(E42=1,$T$9,0) -> 0 | P42: =IF(F42=1,$T$10,0) -> 0 | Q42: =N42+O42+P42 -> 262.36 | R42: =M42+Q42 -> 500.86
A43: gmx8540 | B43: 44912 | C43: 44916 | D43: 1 | G43: =C43-B43 -> 4 | H43: =IF(G43>=180,180,G43) -> 4 | I43: =(D43*$T$13*H43)+(E43*$T$14*H43)+(F43*$T$15*H43) -> 190.8 | J43: =IF(D43=1,H43*$T$13,0) -> 190.8 | K43: =IF(E43=1,H43*$T$14,0) -> 0 | L43: =IF(F43=1,H43*$T$15,0) -> 0 | M43: =I43 -> 190.8 | N43: =IF(D43=1,$T$8,0) -> 262.36 | O43: =IF(E43=1,$T$9,0) -> 0 | P43: =IF(F43=1,$T$10,0) -> 0 | Q43: =N43+O43+P43 -> 262.36 | R43: =M43+Q43 -> 453.16
A44: hay6f53 | B44: 44912 | C44: 44916 | D44: 1 | G44: =C44-B44 -> 4 | H44: =IF(G44>=180,180,G44) -> 4 | I44: =(D44*$T$13*H44)+(E44*$T$14*H44)+(F44*$T$15*H44) -> 190.8 | J44: =IF(D44=1,H44*$T$13,0) -> 190.8 | K44: =IF(E44=1,H44*$T$14,0) -> 0 | L44: =IF(F44=1,H44*$T$15,0) -> 0 | M44: =I44 -> 190.8 | N44: =IF(D44=1,$T$8,0) -> 262.36 | O44: =IF(E44=1,$T$9,0) -> 0 | P44: =IF(F44=1,$T$10,0) -> 0 | Q44: =N44+O44+P44 -> 262.36 | R44: =M44+Q44 -> 453.16
A45: ors2i97 | B45: 44903 | C45: 44916 | D45: 1 | G45: =C45-B45 -> 13 | H45: =IF(G45>=180,180,G45) -> 13 | I45: =(D45*$T$13*H45)+(E45*$T$14*H45)+(F45*$T$15*H45) -> 620.1 | J45: =IF(D45=1,H45*$T$13,0) -> 620.1 | K45: =IF(E45=1,H45*$T$14,0) -> 0 | L45: =IF(F45=1,H45*$T$15,0) -> 0 | M45: =I45 -> 620.1 | N45: =IF(D45=1,$T$8,0) -> 262.36 | O45: =IF(E45=1,$T$9,0) -> 0 | P45: =IF(F45=1,$T$10,0) -> 0 | Q45: =N45+O45+P45 -> 262.36 | R45: =M45+Q45 -> 882.46
A46: rmd9d05 | B46: 44899 | C46: 44917 | E46: 1 | G46: =C46-B46 -> 18 | H46: =IF(G46>=180,180,G46) -> 18 | I46: =(D46*$T$13*H46)+(E46*$T$14*H46)+(F46*$T$15*H46) -> 515.16 | J46: =IF(D46=1,H46*$T$13,0) -> 0 | K46: =IF(E46=1,H46*$T$14,0) -> 515.16 | L46: =IF(F46=1,H46*$T$15,0) -> 0 | M46: =I46 -> 515.16 | N46: =IF(D46=1,$T$8,0) -> 0 | O46: =IF(E46=1,$T$9,0) -> 166.96 | P46: =IF(F46=1,$T$10,0) -> 0 | Q46: =N46+O46+P46 -> 166.96 | R46: =M46+Q46 -> 682.12
A47: gyw6f53 | B47: 44905 | C47: 44917 | D47: 1 | G47: =C47-B47 -> 12 | H47: =IF(G47>=180,180,G47) -> 12 | I47: =(D47*$T$13*H47)+(E47*$T$14*H47)+(F47*$T$15*H47) -> 572.4 | J47: =IF(D47=1,H47*$T$13,0) -> 572.4 | K47: =IF(E47=1,H47*$T$14,0) -> 0 | L47: =IF(F47=1,H47*$T$15,0) -> 0 | M47: =I47 -> 572.4 | N47: =IF(D47=1,$T$8,0) -> 262.36 | O47: =IF(E47=1,$T$9,0) -> 0 | P47: =IF(F47=1,$T$10,0) -> 0 | Q47: =N47+O47+P47 -> 262.36 | R47: =M47+Q47 -> 834.76
A48: bkf0a90 | B48: 44917 | C48: 44918 | D48: 1 | G48: =C48-B48 -> 1 | H48: =IF(G48>=180,180,G48) -> 1 | I48: =(D48*$T$13*H48)+(E48*$T$14*H48)+(F48*$T$15*H48) -> 47.7 | J48: =IF(D48=1,H48*$T$13,0) -> 47.7 | K48: =IF(E48=1,H48*$T$14,0) -> 0 | L48: =IF(F48=1,H48*$T$15,0) -> 0 | M48: =I48 -> 47.7 | N48: =IF(D48=1,$T$8,0) -> 262.36 | O48: =IF(E48=1,$T$9,0) -> 0 | P48: =IF(F48=1,$T$10,0) -> 0 | Q48: =N48+O48+P48 -> 262.36 | R48: =M48+Q48 -> 310.06
A49: opv6708 | B49: 44920 | C49: 44921 | E49: 1 | G49: =C49-B49 -> 1 | H49: =IF(G49>=180,180,G49) -> 1 | I49: =(D49*$T$13*H49)+(E49*$T$14*H49)+(F49*$T$15*H49) -> 28.62 | J49: =IF(D49=1,H49*$T$13,0) -> 0 | K49: =IF(E49=1,H49*$T$14,0) -> 28.62 | L49: =IF(F49=1,H49*$T$15,0) -> 0 | M49: =I49 -> 28.62 | N49: =IF(D49=1,$T$8,0) -> 0 | O49: =IF(E49=1,$T$9,0) -> 166.96 | P49: =IF(F49=1,$T$10,0) -> 0 | Q49: =N49+O49+P49 -> 166.96 | R49: =M49+Q49 -> 195.58
A50: opn6g34 | B50: 44917 | C50: 44921 | E50: 1 | G50: =C50-B50 -> 4 | H50: =IF(G50>=180,180,G50) -> 4 | I50: =(D50*$T$13*H50)+(E50*$T$14*H50)+(F50*$T$15*H50) -> 114.48 | J50: =IF(D50=1,H50*$T$13,0) -> 0 | K50: =IF(E50=1,H50*$T$14,0) -> 114.48 | L50: =IF(F50=1,H50*$T$15,0) -> 0 | M50: =I50 -> 114.48 | N50: =IF(D50=1,$T$8,0) -> 0 | O50: =IF(E50=1,$T$9,0) -> 166.96 | P50: =IF(F50=1,$T$10,0) -> 0 | Q50: =N50+O50+P50 -> 166.96 | R50: =M50+Q50 -> 281.44
A51: kxe2247 | B51: 44911 | C51: 44922 | D51: 1 | G51: =C51-B51 -> 11 | H51: =IF(G51>=180,180,G51) -> 11 | I51: =(D51*$T$13*H51)+(E51*$T$14*H51)+(F51*$T$15*H51) -> 524.7 | J51: =IF(D51=1,H51*$T$13,0) -> 524.7 | K51: =IF(E51=1,H51*$T$14,0) -> 0 | L51: =IF(F51=1,H51*$T$15,0) -> 0 | M51: =I51 -> 524.7 | N51: =IF(D51=1,$T$8,0) -> 262.36 | O51: =IF(E51=1,$T$9,0) -> 0 | P51: =IF(F51=1,$T$10,0) -> 0 | Q51: =N51+O51+P51 -> 262.36 | R51: =M51+Q51 -> 787.06
A52: pyq6549 | B52: 44911 | C52: 44922 | E52: 0 | G52: =C52-B52 -> 11 | H52: =IF(G52>=180,180,G52) -> 11 | I52: =(D52*$T$13*H52)+(E52*$T$14*H52)+(F52*$T$15*H52) -> 0 | J52: =IF(D52=1,H52*$T$13,0) -> 0 | K52: =IF(E52=1,H52*$T$14,0) -> 0 | L52: =IF(F52=1,H52*$T$15,0) -> 0 | M52: =I52 -> 0 | N52: =IF(D52=1,$T$8,0) -> 0 | O52: =IF(E52=1,$T$9,0) -> 0 | P52: =IF(F52=1,$T$10,0) -> 0 | Q52: =N52+O52+P52 -> 0 | R52: =M52+Q52 -> 0
A53: glk4836 | B53: 44920 | C53: 44922 | D53: 1 | G53: =C53-B53 -> 2 | H53: =IF(G53>=180,180,G53) -> 2 | I53: =(D53*$T$13*H53)+(E53*$T$14*H53)+(F53*$T$15*H53) -> 95.4 | J53: =IF(D53=1,H53*$T$13,0) -> 95.4 | K53: =IF(E53=1,H53*$T$14,0) -> 0 | L53: =IF(F53=1,H53*$T$15,0) -> 0 | M53: =I53 -> 95.4 | N53: =IF(D53=1,$T$8,0) -> 262.36 | O53: =IF(E53=1,$T$9,0) -> 0 | P53: =IF(F53=1,$T$10,0) -> 0 | Q53: =N53+O53+P53 -> 262.36 | R53: =M53+Q53 -> 357.76
A54: msq4707 | B54: 44919 | C54: 44923 | D54: 1 | G54: =C54-B54 -> 4 | H54: =IF(G54>=180,180,G54) -> 4 | I54: =(D54*$T$13*H54)+(E54*$T$14*H54)+(F54*$T$15*H54) -> 190.8 | J54: =IF(D54=1,H54*$T$13,0) -> 190.8 | K54: =IF(E54=1,H54*$T$14,0) -> 0 | L54: =IF(F54=1,H54*$T$15,0) -> 0 | M54: =I54 -> 190.8 | N54: =IF(D54=1,$T$8,0) -> 262.36 | O54: =IF(E54=1,$T$9,0) -> 0 | P54: =IF(F54=1,$T$10,0) -> 0 | Q54: =N54+O54+P54 -> 262.36 | R54: =M54+Q54 -> 453.16
A55: rnu7d41 | B55: 44922 | C55: 44923 | E55: 1 | G55: =C55-B55 -> 1 | H55: =IF(G55>=180,180,G55) -> 1 | I55: =(D55*$T$13*H55)+(E55*$T$14*H55)+(F55*$T$15*H55) -> 28.62 | J55: =IF(D55=1,H55*$T$13,0) -> 0 | K55: =IF(E55=1,H55*$T$14,0) -> 28.62 | L55: =IF(F55=1,H55*$T$15,0) -> 0 | M55: =I55 -> 28.62 | N55: =IF(D55=1,$T$8,0) -> 0 | O55: =IF(E55=1,$T$9,0) -> 166.96 | P55: =IF(F55=1,$T$10,0) -> 0 | Q55: =N55+O55+P55 -> 166.96 | R55: =M55+Q55 -> 195.58
A56: hhu8i39 | B56: 44922 | C56: 44923 | E56: 0 | G56: =C56-B56 -> 1 | H56: =IF(G56>=180,180,G56) -> 1 | I56: =(D56*$T$13*H56)+(E56*$T$14*H56)+(F56*$T$15*H56) -> 0 | J56: =IF(D56=1,H56*$T$13,0) -> 0 | K56: =IF(E56=1,H56*$T$14,0) -> 0 | L56: =IF(F56=1,H56*$T$15,0) -> 0 | M56: =I56 -> 0 | N56: =IF(D56=1,$T$8,0) -> 0 | O56: =IF(E56=1,$T$9,0) -> 0 | P56: =IF(F56=1,$T$10,0) -> 0 | Q56: =N56+O56+P56 -> 0 | R56: =M56+Q56 -> 0
A57: gsb0066 | B57: 44917 | C57: 44924 | D57: 1 | G57: =C57-B57 -> 7 | H57: =IF(G57>=180,180,G57) -> 7 | I57: =(D57*$T$13*H57)+(E57*$T$14*H57)+(F57*$T$15*H57) -> 333.9 | J57: =IF(D57=1,H57*$T$13,0) -> 333.9 | K57: =IF(E57=1,H57*$T$14,0) -> 0 | L57: =IF(F57=1,H57*$T$15,0) -> 0 | M57: =I57 -> 333.9 | N57: =IF(D57=1,$T$8,0) -> 262.36 | O57: =IF(E57=1,$T$9,0) -> 0 | P57: =IF(F57=1,$T$10,0) -> 0 | Q57: =N57+O57+P57 -> 262.36 | R57: =M57+Q57 -> 596.26
A58: hfz9000 | B58: 44883 | C58: 44924 | E58: 1 | G58: =C58-B58 -> 41 | H58: =IF(G58>=180,180,G58) -> 41 | I58: =(D58*$T$13*H58)+(E58*$T$14*H58)+(F58*$T$15*H58) -> 1173.42 | J58: =IF(D58=1,H58*$T$13,0) -> 0 | K58: =IF(E58=1,H58*$T$14,0) -> 1173.42 | L58: =IF(F58=1,H58*$T$15,0) -> 0 | M58: =I58 -> 1173.42 | N58: =IF(D58=1,$T$8,0) -> 0 | O58: =IF(E58=1,$T$9,0) -> 166.96 | P58: =IF(F58=1,$T$10,0) -> 0 | Q58: =N58+O58+P58 -> 166.96 | R58: =M58+Q58 -> 1340.38
A59: nmf7c47 | B59: 44922 | C59: 44924 | D59: 1 | G59: =C59-B59 -> 2 | H59: =IF(G59>=180,180,G59) -> 2 | I59: =(D59*$T$13*H59)+(E59*$T$14*H59)+(F59*$T$15*H59) -> 95.4 | J59: =IF(D59=1,H59*$T$13,0) -> 95.4 | K59: =IF(E59=1,H59*$T$14,0) -> 0 | L59: =IF(F59=1,H59*$T$15,0) -> 0 | M59: =I59 -> 95.4 | N59: =IF(D59=1,$T$8,0) -> 262.36 | O59: =IF(E59=1,$T$9,0) -> 0 | P59: =IF(F59=1,$T$10,0) -> 0 | Q59: =N59+O59+P59 -> 262.36 | R59: =M59+Q59 -> 357.76
A60: hfz9195 | B60: 44918 | C60: 44924 | E60: 1 | G60: =C60-B60 -> 6 | H60: =IF(G60>=180,180,G60) -> 6 | I60: =(D60*$T$13*H60)+(E60*$T$14*H60)+(F60*$T$15*H60) -> 171.72 | J60: =IF(D60=1,H60*$T$13,0) -> 0 | K60: =IF(E60=1,H60*$T$14,0) -> 171.72 | L60: =IF(F60=1,H60*$T$15,0) -> 0 | M60: =I60 -> 171.72 | N60: =IF(D60=1,$T$8,0) -> 0 | O60: =IF(E60=1,$T$9,0) -> 166.96 | P60: =IF(F60=1,$T$10,0) -> 0 | Q60: =N60+O60+P60 -> 166.96 | R60: =M60+Q60 -> 338.68
G61: =C61-B61 -> 0 | H61: =IF(G61>=180,180,G61) -> 0 | I61: =(D61*$T$13*H61)+(E61*$T$14*H61)+(F61*$T$15*H61) -> 0 | J61: =IF(D61=1,H61*$T$13,0) -> 0 | K61: =IF(E61=1,H61*$T$14,0) -> 0 | L61: =IF(F61=1,H61*$T$15,0) -> 0 | M61: =I61 -> 0 | N61: =IF(D61=1,$T$8,0) -> 0 | O61: =IF(E61=1,$T$9,0) -> 0 | P61: =IF(F61=1,$T$10,0) -> 0 | Q61: =N61+O61+P61 -> 0 | R61: =M61+Q61 -> 0
G62: =C62-B62 -> 0 | H62: =IF(G62>=180,180,G62) -> 0 | I62: =(D62*$T$13*H62)+(E62*$T$14*H62)+(F62*$T$15*H62) -> 0 | J62: =IF(D62=1,H62*$T$13,0) -> 0 | K62: =IF(E62=1,H62*$T$14,0) -> 0 | L62: =IF(F62=1,H62*$T$15,0) -> 0 | M62: =I62 -> 0 | N62: =IF(D62=1,$T$8,0) -> 0 | O62: =IF(E62=1,$T$9,0) -> 0 | P62: =IF(F62=1,$T$10,0) -> 0 | Q62: =N62+O62+P62 -> 0 | R62: =M62+Q62 -> 0
G63: =C63-B63 -> 0 | H63: =IF(G63>=180,180,G63) -> 0 | I63: =(D63*$T$13*H63)+(E63*$T$14*H63)+(F63*$T$15*H63) -> 0 | J63: =IF(D63=1,H63*$T$13,0) -> 0 | K63: =IF(E63=1,H63*$T$14,0) -> 0 | L63: =IF(F63=1,H63*$T$15,0) -> 0 | M63: =I63 -> 0 | N63: =IF(D63=1,$T$8,0) -> 0 | O63: =IF(E63=1,$T$9,0) -> 0 | P63: =IF(F63=1,$T$10,0) -> 0 | Q63: =N63+O63+P63 -> 0 | R63: =M63+Q63 -> 0
G64: =C64-B64 -> 0 | H64: =IF(G64>=180,180,G64) -> 0 | I64: =(D64*$T$13*H64)+(E64*$T$14*H64)+(F64*$T$15*H64) -> 0 | J64: =IF(D64=1,H64*$T$13,0) -> 0 | K64: =IF(E64=1,H64*$T$14,0) -> 0 | L64: =IF(F64=1,H64*$T$15,0) -> 0 | M64: =I64 -> 0 | N64: =IF(D64=1,$T$8,0) -> 0 | O64: =IF(E64=1,$T$9,0) -> 0 | P64: =IF(F64=1,$T$10,0) -> 0 | Q64: =N64+O64+P64 -> 0 | R64: =M64+Q64 -> 0
G65: =C65-B65 -> 0 | H65: =IF(G65>=180,180,G65) -> 0 | I65: =(D65*$T$13*H65)+(E65*$T$14*H65)+(F65*$T$15*H65) -> 0 | J65: =IF(D65=1,H65*$T$13,0) -> 0 | K65: =IF(E65=1,H65*$T$14,0) -> 0 | L65: =IF(F65=1,H65*$T$15,0) -> 0 | M65: =I65 -> 0 | N65: =IF(D65=1,$T$8,0) -> 0 | O65: =IF(E65=1,$T$9,0) -> 0 | P65: =IF(F65=1,$T$10,0) -> 0 | Q65: =N65+O65+P65 -> 0 | R65: =M65+Q65 -> 0
G66: =C66-B66 -> 0 | H66: =IF(G66>=180,180,G66) -> 0 | I66: =(D66*$T$13*H66)+(E66*$T$14*H66)+(F66*$T$15*H66) -> 0 | J66: =IF(D66=1,H66*$T$13,0) -> 0 | K66: =IF(E66=1,H66*$T$14,0) -> 0 | L66: =IF(F66=1,H66*$T$15,0) -> 0 | M66: =I66 -> 0 | N66: =IF(D66=1,$T$8,0) -> 0 | O66: =IF(E66=1,$T$9,0) -> 0 | P66: =IF(F66=1,$T$10,0) -> 0 | Q66: =N66+O66+P66 -> 0 | R66: =M66+Q66 -> 0
G67: =C67-B67 -> 0 | H67: =IF(G67>=180,180,G67) -> 0 | I67: =(D67*$T$13*H67)+(E67*$T$14*H67)+(F67*$T$15*H67) -> 0 | J67: =IF(D67=1,H67*$T$13,0) -> 0 | K67: =IF(E67=1,H67*$T$14,0) -> 0 | L67: =IF(F67=1,H67*$T$15,0) -> 0 | M67: =I67 -> 0 | N67: =IF(D67=1,$T$8,0) -> 0 | O67: =IF(E67=1,$T$9,0) -> 0 | P67: =IF(F67=1,$T$10,0) -> 0 | Q67: =N67+O67+P67 -> 0 | R67: =M67+Q67 -> 0
G68: =C68-B68 -> 0 | H68: =IF(G68>=180,180,G68) -> 0 | I68: =(D68*$T$13*H68)+(E68*$T$14*H68)+(F68*$T$15*H68) -> 0 | J68: =IF(D68=1,H68*$T$13,0) -> 0 | K68: =IF(E68=1,H68*$T$14,0) -> 0 | L68: =IF(F68=1,H68*$T$15,0) -> 0 | M68: =I68 -> 0 | N68: =IF(D68=1,$T$8,0) -> 0 | O68: =IF(E68=1,$T$9,0) -> 0 | P68: =IF(F68=1,$T$10,0) -> 0 | Q68: =N68+O68+P68 -> 0 | R68: =M68+Q68 -> 0
G69: =C69-B69 -> 0 | H69: =IF(G69>=180,180,G69) -> 0 | I69: =(D69*$T$13*H69)+(E69*$T$14*H69)+(F69*$T$15*H69) -> 0 | J69: =IF(D69=1,H69*$T$13,0) -> 0 | K69: =IF(E69=1,H69*$T$14,0) -> 0 | L69: =IF(F69=1,H69*$T$15,0) -> 0 | M69: =I69 -> 0 | N69: =IF(D69=1,$T$8,0) -> 0 | O69: =IF(E69=1,$T$9,0) -> 0 | P69: =IF(F69=1,$T$10,0) -> 0 | Q69: =N69+O69+P69 -> 0 | R69: =M69+Q69 -> 0
G70: =C70-B70 -> 0 | H70: =IF(G70>=180,180,G70) -> 0 | I70: =(D70*$T$13*H70)+(E70*$T$14*H70)+(F70*$T$15*H70) -> 0 | J70: =IF(D70=1,H70*$T$13,0) -> 0 | K70: =IF(E70=1,H70*$T$14,0) -> 0 | L70: =IF(F70=1,H70*$T$15,0) -> 0 | M70: =I70 -> 0 | N70: =IF(D70=1,$T$8,0) -> 0 | O70: =IF(E70=1,$T$9,0) -> 0 | P70: =IF(F70=1,$T$10,0) -> 0 | Q70: =N70+O70+P70 -> 0 | R70: =M70+Q70 -> 0
G71: =C71-B71 -> 0 | H71: =IF(G71>=180,180,G71) -> 0 | I71: =(D71*$T$13*H71)+(E71*$T$14*H71)+(F71*$T$15*H71) -> 0 | J71: =IF(D71=1,H71*$T$13,0) -> 0 | K71: =IF(E71=1,H71*$T$14,0) -> 0 | L71: =IF(F71=1,H71*$T$15,0) -> 0 | M71: =I71 -> 0 | N71: =IF(D71=1,$T$8,0) -> 0 | O71: =IF(E71=1,$T$9,0) -> 0 | P71: =IF(F71=1,$T$10,0) -> 0 | Q71: =N71+O71+P71 -> 0 | R71: =M71+Q71 -> 0
G72: =C72-B72 -> 0 | H72: =IF(G72>=180,180,G72) -> 0 | I72: =(D72*$T$13*H72)+(E72*$T$14*H72)+(F72*$T$15*H72) -> 0 | J72: =IF(D72=1,H72*$T$13,0) -> 0 | K72: =IF(E72=1,H72*$T$14,0) -> 0 | L72: =IF(F72=1,H72*$T$15,0) -> 0 | M72: =I72 -> 0 | N72: =IF(D72=1,$T$8,0) -> 0 | O72: =IF(E72=1,$T$9,0) -> 0 | P72: =IF(F72=1,$T$10,0) -> 0 | Q72: =N72+O72+P72 -> 0 | R72: =M72+Q72 -> 0
... G200: =C200-B200 -> 0 | H200: =IF(G200>=180,180,G200) -> 0 | I200: =(D200*$T$13*H200)+(E200*$T$14*H200)+(F200*$T$15*H200) -> 0 | J200: =IF(D200=1,H200*$T$13,0) -> 0 | K200: =IF(E200=1,H200*$T$14,0) -> 0 | L200: =IF(F200=1,H200*$T$15,0) -> 0 | M200: =I200 -> 0 | N200: =IF(D200=1,$T$8,0) -> 0 | O200: =IF(E200=1,$T$9,0) -> 0 | P200: =IF(F200=1,$T$10,0) -> 0 | Q200: =N200+O200+P200 -> 0 | R200: =M200+Q200 -> 0
D201: =SUM(D3:D200) -> 31 | E201: =SUM(E3:E200) -> 18 | F201: =SUM(F3:F200) -> 1 | J201: =SUM(J3:J200) -> 9778.5 | K201: =SUM(K3:K200) -> 3835.08 | L201: =SUM(L3:L200) -> 10303.2 | M201: =SUM(M3:M200) -> 23916.78 | Q201: =SUM(Q3:Q200) -> 11486.67 | R201: =SUM(R3:R200) -> 34950.29
D202: carro | E202: moto | F202: pesado | J202: carro | K202: moto | L202: pesado | M202: total diaria

Sheet entradas
C4: valor | D4: valor detran
A5: valor em reais das liberaçoes | C5: diaria carro | D5: 47.7
B6: =diarias!R201 -> 34950.29 | C6: diaria moto | D6: 28.62
C7: diaria pesado | D7: 57.24
C9: valor
C10: guincho carro | D10: 262.36
C11: guincho moto | D11: 166.96
C12: guincho pesado | D12: 348.23
C14: tabela numero de apreensao
C15: carro | D15: =diarias!D201 -> 31
C16: moto | D16: =diarias!E201 -> 18
C17: pesado | D17: =diarias!F201 -> 1
D18: =SUM(D15:D17) -> 50
B20: total diarias | C20: carro | D20: =diarias!J201 -> 9778.5
C21: moto | D21: =diarias!K201 -> 3835.08
C22: pesado | D22: =diarias!L201 -> 10303.2
D23: =SUM(D20:D22) -> 23916.78
B25: tot6al guincho valor | D25: =D15*D10 -> 8133.16
D26: =D16*D11 -> 3005.28
D27: =D17*D12 -> 348.23
D28: =SUM(D25:D27) -> 11486.67
C30: TOTAL | D30: =D23+D28 -> 35403.45

Sheet totais
A1: totais
