Workbook

Sheet diarias
B1: novembro | D1: veiculo | L1: valor
A2: veiculo/placa | B2: data entrada | C2: data saida | D2: carro | E2: moto | F2: caminhao | G2: diarias | H2: carro | I2: moto | J2: pesado | K2: total diaria | L2: guincho | M2: guincho | N2: guincho | O2: valor | P2: total
A3: nlv7i45 | B3: 44866 | C3: 44868 | D3: 1 | G3: =C3-B3 -> 2 | H3: =IF(D3=1,G3*$R$13,0) -> 95.4 | I3: =IF(E3=1,G3*$R$14,0) -> 0 | J3: =IF(F3=1,G3*$R$15,0) -> 0 | K3: =IF(G3>=180,D3*$R$13+E3*$R$14+F3*$R$15,H3+I3+J3) -> 95.4 | L3: =IF(D3=1,$R$8,0) -> 262.36 | M3: =IF(E3=1,$R$9,0) -> 0 | N3: =IF(F3=1,$R$10,0) -> 0 | O3: =L3+M3+N3 -> 262.36 | P3: =K3+O3 -> 357.76
A4: has4g99 | B4: 44864 | C4: 44837 | E4: 1 | G4: =C4-B4 -> -27 | H4: =IF(D4=1,G4*$R$13,0) -> 0 | I4: =IF(E4=1,G4*$R$14,0) -> -772.74 | J4: =IF(F4=1,G4*$R$15,0) -> 0 | K4: =IF(G4>=180,D4*$R$13+E4*$R$14+F4*$R$15,H4+I4+J4) -> -772.74 | L4: =IF(D4=1,$R$8,0) -> 0 | M4: =IF(E4=1,$R$9,0) -> 166.96 | N4: =IF(F4=1,$R$10,0) -> 0 | O4: =L4+M4+N4 -> 166.96 | P4: =K4+O4 -> -605.78
A5: qxk6461 | B5: 44866 | C5: 44869 | E5: 1 | G5: =C5-B5 -> 3 | H5: =IF(D5=1,G5*$R$13,0) -> 0 | I5: =IF(E5=1,G5*$R$14,0) -> 85.86 | J5: =IF(F5=1,G5*$R$15,0) -> 0 | K5: =IF(G5>=180,D5*$R$13+E5*$R$14+F5*$R$15,H5+I5+J5) -> 85.86 | L5: =IF(D5=1,$R$8,0) -> 0 | M5: =IF(E5=1,$R$9,0) -> 166.96 | N5: =IF(F5=1,$R$10,0) -> 0 | O5: =L5+M5+N5 -> 166.96 | P5: =K5+O5 -> 252.82
A6: gsn5i62 | B6: 44859 | C6: 44869 | E6: 1 | G6: =C6-B6 -> 10 | H6: =IF(D6=1,G6*$R$13,0) -> 0 | I6: =IF(E6=1,G6*$R$14,0) -> 286.2 | J6: =IF(F6=1,G6*$R$15,0) -> 0 | K6: =IF(G6>=180,D6*$R$13+E6*$R$14+F6*$R$15,H6+I6+J6) -> 286.2 | L6: =IF(D6=1,$R$8,0) -> 0 | M6: =IF(E6=1,$R$9,0) -> 166.96 | N6: =IF(F6=1,$R$10,0) -> 0 | O6: =L6+M6+N6 -> 166.96 | P6: =K6+O6 -> 453.16
A7: rtq7e37 | B7: 44864 | C7: 44869 | E7: 1 | G7: =C7-B7 -> 5 | H7: =IF(D7=1,G7*$R$13,0) -> 0 | I7: =IF(E7=1,G7*$R$14,0) -> 143.1 | J7: =IF(F7=1,G7*$R$15,0) -> 0 | K7: =IF(G7>=180,D7*$R$13+E7*$R$14+F7*$R$15,H7+I7+J7) -> 143.1 | L7: =IF(D7=1,$R$8,0) -> 0 | M7: =IF(E7=1,$R$9,0) -> 166.96 | N7: =IF(F7=1,$R$10,0) -> 0 | O7: =L7+M7+N7 -> 166.96 | P7: bn | Q7: guincho
A8: ruf3d24 | B8: 44864 | C8: 44872 | E8: 1 | G8: =C8-B8 -> 8 | H8: =IF(D8=1,G8*$R$13,0) -> 0 | I8: =IF(E8=1,G8*$R$14,0) -> 228.96 | J8: =IF(F8=1,G8*$R$15,0) -> 0 | K8: =IF(G8>=180,D8*$R$13+E8*$R$14+F8*$R$15,H8+I8+J8) -> 228.96 | L8: =IF(D8=1,$R$8,0) -> 0 | M8: =IF(E8=1,$R$9,0) -> 166.96 | N8: =IF(F8=1,$R$10,0) -> 0 | O8: =L8+M8+N8 -> 166.96 | P8: =K8+O8 -> 395.92 | Q8: carro | R8: =entradas!$D$10 -> 262.36
A9: rfy3b77 | B9: 44866 | C9: 44872 | E9: 1 | G9: =C9-B9 -> 6 | H9: =IF(D9=1,G9*$R$13,0) -> 0 | I9: =IF(E9=1,G9*$R$14,0) -> 171.72 | J9: =IF(F9=1,G9*$R$15,0) -> 0 | K9: =IF(G9>=180,D9*$R$13+E9*$R$14+F9*$R$15,H9+I9+J9) -> 171.72 | L9: =IF(D9=1,$R$8,0) -> 0 | M9: =IF(E9=1,$R$9,0) -> 166.96 | N9: =IF(F9=1,$R$10,0) -> 0 | O9: =L9+M9+N9 -> 166.96 | P9: =K9+O9 -> 338.68 | Q9: moto | R9: =entradas!$D$11 -> 166.96
A10: hoi7878 | B10: 44841 | C10: 44873 | D10: 1 | G10: =C10-B10 -> 32 | H10: =IF(D10=1,G10*$R$13,0) -> 1526.4 | I10: =IF(E10=1,G10*$R$14,0) -> 0 | J10: =IF(F10=1,G10*$R$15,0) -> 0 | K10: =IF(G10>=180,D10*$R$13+E10*$R$14+F10*$R$15,H10+I10+J10) -> 1526.4 | L10: =IF(D10=1,$R$8,0) -> 262.36 | M10: =IF(E10=1,$R$9,0) -> 0 | N10: =IF(F10=1,$R$10,0) -> 0 | O10: =L10+M10+N10 -> 262.36 | P10: =K10+O10 -> 1788.76 | Q10: pesado | R10: =entradas!$D$12 -> 348.23
A11: hbe8455 | B11: 44869 | C11: 44874 | E11: 1 | G11: =C11-B11 -> 5 | H11: =IF(D11=1,G11*$R$13,0) -> 0 | I11: =IF(E11=1,G11*$R$14,0) -> 143.1 | J11: =IF(F11=1,G11*$R$15,0) -> 0 | K11: =IF(G11>=180,D11*$R$13+E11*$R$14+F11*$R$15,H11+I11+J11) -> 143.1 | L11: =IF(D11=1,$R$8,0) -> 0 | M11: =IF(E11=1,$R$9,0) -> 166.96 | N11: =IF(F11=1,$R$10,0) -> 0 | O11: =L11+M11+N11 -> 166.96 | P11: =K11+O11 -> 310.06
A12: lao7627 | B12: 44874 | C12: 44876 | D12: 1 | G12: =C12-B12 -> 2 | H12: =IF(D12=1,G12*$R$13,0) -> 95.4 | I12: =IF(E12=1,G12*$R$14,0) -> 0 | J12: =IF(F12=1,G12*$R$15,0) -> 0 | K12: =IF(G12>=180,D12*$R$13+E12*$R$14+F12*$R$15,H12+I12+J12) -> 95.4 | L12: =IF(D12=1,$R$8,0) -> 262.36 | M12: =IF(E12=1,$R$9,0) -> 0 | N12: =IF(F12=1,$R$10,0) -> 0 | O12: =L12+M12+N12 -> 262.36 | P12: =K12+O12 -> 357.76 | Q12: diaria
A13: gzc0667 | B13: 44874 | C13: 44876 | E13: 1 | G13: =C13-B13 -> 2 | H13: =IF(D13=1,G13*$R$13,0) -> 0 | I13: =IF(E13=1,G13*$R$14,0) -> 57.24 | J13: =IF(F13=1,G13*$R$15,0) -> 0 | K13: =IF(G13>=180,D13*$R$13+E13*$R$14+F13*$R$15,H13+I13+J13) -> 57.24 | L13: =IF(D13=1,$R$8,0) -> 0 | M13: =IF(E13=1,$R$9,0) -> 166.96 | N13: =IF(F13=1,$R$10,0) -> 0 | O13: =L13+M13+N13 -> 166.96 | P13: =K13+O13 -> 224.2 | Q13: carro | R13: =entradas!$D$5 -> 47.7
A14: gnn5028 | B14: 44844 | C14: 44876 | D14: 1 | G14: =C14-B14 -> 32 | H14: =IF(D14=1,G14*$R$13,0) -> 1526.4 | I14: =IF(E14=1,G14*$R$14,0) -> 0 | J14: =IF(F14=1,G14*$R$15,0) -> 0 | K14: =IF(G14>=180,D14*$R$13+E14*$R$14+F14*$R$15,H14+I14+J14) -> 1526.4 | L14: =IF(D14=1,$R$8,0) -> 262.36 | M14: =IF(E14=1,$R$9,0) -> 0 | N14: =IF(F14=1,$R$10,0) -> 0 | O14: =L14+M14+N14 -> 262.36 | P14: =K14+O14 -> 1788.76 | Q14: moto | R14: =entradas!$D$6 -> 28.62
A15: pzq6650 | B15: 44864 | C15: 44876 | F15: 1 | G15: =C15-B15 -> 12 | H15: =IF(D15=1,G15*$R$13,0) -> 0 | I15: =IF(E15=1,G15*$R$14,0) -> 0 | J15: =IF(F15=1,G15*$R$15,0) -> 686.88 | K15: =IF(G15>=180,D15*$R$13+E15*$R$14+F15*$R$15,H15+I15+J15) -> 686.88 | L15: =IF(D15=1,$R$8,0) -> 0 | M15: =IF(E15=1,$R$9,0) -> 0 | N15: =IF(F15=1,$R$10,0) -> 348.23 | O15: =L15+M15+N15 -> 348.23 | P15: =K15+O15 -> 1035.11 | Q15: pesado | R15: =entradas!$D$7 -> 57.24
A16: glc5221 | B16: 44848 | C16: 44879 | D16: 1 | G16: =C16-B16 -> 31 | H16: =IF(D16=1,G16*$R$13,0) -> 1478.7 | I16: =IF(E16=1,G16*$R$14,0) -> 0 | J16: =IF(F16=1,G16*$R$15,0) -> 0 | K16: =IF(G16>=180,D16*$R$13+E16*$R$14+F16*$R$15,H16+I16+J16) -> 1478.7 | L16: =IF(D16=1,$R$8,0) -> 262.36 | M16: =IF(E16=1,$R$9,0) -> 0 | N16: =IF(F16=1,$R$10,0) -> 0 | O16: =L16+M16+N16 -> 262.36 | P16: =K16+O16 -> 1741.06
A17: mpe4292 | B17: 44876 | C17: 44882 | D17: 1 | G17: =C17-B17 -> 6 | H17: =IF(D17=1,G17*$R$13,0) -> 286.2 | I17: =IF(E17=1,G17*$R$14,0) -> 0 | J17: =IF(F17=1,G17*$R$15,0) -> 0 | K17: =IF(G17>=180,D17*$R$13+E17*$R$14+F17*$R$15,H17+I17+J17) -> 286.2 | L17: =IF(D17=1,$R$8,0) -> 262.36 | M17: =IF(E17=1,$R$9,0) -> 0 | N17: =IF(F17=1,$R$10,0) -> 0 | O17: =L17+M17+N17 -> 262.36 | P17: =K17+O17 -> 548.56
A18: hch5342 | B18: 44815 | C18: 44882 | D18: 1 | G18: =C18-B18 -> 67 | H18: =IF(D18=1,G18*$R$13,0) -> 3195.9 | I18: =IF(E18=1,G18*$R$14,0) -> 0 | J18: =IF(F18=1,G18*$R$15,0) -> 0 | K18: =IF(G18>=180,D18*$R$13+E18*$R$14+F18*$R$15,H18+I18+J18) -> 3195.9 | L18: =IF(D18=1,$R$8,0) -> 262.36 | M18: =IF(E18=1,$R$9,0) -> 0 | N18: =IF(F18=1,$R$10,0) -> 0 | O18: =L18+M18+N18 -> 262.36 | P18: =K18+O18 -> 3458.26
A19: rfu3d24 | B19: 44876 | C19: 44882 | E19: 1 | G19: =C19-B19 -> 6 | H19: =IF(D19=1,G19*$R$13,0) -> 0 | I19: =IF(E19=1,G19*$R$14,0) -> 171.72 | J19: =IF(F19=1,G19*$R$15,0) -> 0 | K19: =IF(G19>=180,D19*$R$13+E19*$R$14+F19*$R$15,H19+I19+J19) -> 171.72 | L19: =IF(D19=1,$R$8,0) -> 0 | M19: =IF(E19=1,$R$9,0) -> 166.96 | N19: =IF(F19=1,$R$10,0) -> 0 | O19: =L19+M19+N19 -> 166.96 | P19: =K19+O19 -> 338.68
A20: omc8077 | B20: 44881 | C20: 44882 | E20: 1 | G20: =C20-B20 -> 1 | H20: =IF(D20=1,G20*$R$13,0) -> 0 | I20: =IF(E20=1,G20*$R$14,0) -> 28.62 | J20: =IF(F20=1,G20*$R$15,0) -> 0 | K20: =IF(G20>=180,D20*$R$13+E20*$R$14+F20*$R$15,H20+I20+J20) -> 28.62 | L20: =IF(D20=1,$R$8,0) -> 0 | M20: =IF(E20=1,$R$9,0) -> 166.96 | N20: =IF(F20=1,$R$10,0) -> 0 | O20: =L20+M20+N20 -> 166.96 | P20: =K20+O20 -> 195.58
A21: het0988 | B21: 44866 | C21: 44882 | E21: 1 | G21: =C21-B21 -> 16 | H21: =IF(D21=1,G21*$R$13,0) -> 0 | I21: =IF(E21=1,G21*$R$14,0) -> 457.92 | J21: =IF(F21=1,G21*$R$15,0) -> 0 | K21: =IF(G21>=180,D21*$R$13+E21*$R$14+F21*$R$15,H21+I21+J21) -> 457.92 | L21: =IF(D21=1,$R$8,0) -> 0 | M21: =IF(E21=1,$R$9,0) -> 166.96 | N21: =IF(F21=1,$R$10,0) -> 0 | O21: =L21+M21+N21 -> 166.96 | P21: =K21+O21 -> 624.88
A22: mqo5g04 | B22: 44880 | C22: 44882 | D22: 1 | G22: =C22-B22 -> 2 | H22: =IF(D22=1,G22*$R$13,0) -> 95.4 | I22: =IF(E22=1,G22*$R$14,0) -> 0 | J22: =IF(F22=1,G22*$R$15,0) -> 0 | K22: =IF(G22>=180,D22*$R$13+E22*$R$14+F22*$R$15,H22+I22+J22) -> 95.4 | L22: =IF(D22=1,$R$8,0) -> 262.36 | M22: =IF(E22=1,$R$9,0) -> 0 | N22: =IF(F22=1,$R$10,0) -> 0 | O22: =L22+M22+N22 -> 262.36 | P22: =K22+O22 -> 357.76
A23: guu8445 | B23: 44875 | C23: 44882 | D23: 1 | G23: =C23-B23 -> 7 | H23: =IF(D23=1,G23*$R$13,0) -> 333.9 | I23: =IF(E23=1,G23*$R$14,0) -> 0 | J23: =IF(F23=1,G23*$R$15,0) -> 0 | K23: =IF(G23>=180,D23*$R$13+E23*$R$14+F23*$R$15,H23+I23+J23) -> 333.9 | L23: =IF(D23=1,$R$8,0) -> 262.36 | M23: =IF(E23=1,$R$9,0) -> 0 | N23: =IF(F23=1,$R$10,0) -> 0 | O23: =L23+M23+N23 -> 262.36 | P23: =K23+O23 -> 596.26
A24: hls3511 | B24: 44875 | C24: 44883 | E24: 1 | G24: =C24-B24 -> 8 | H24: =IF(D24=1,G24*$R$13,0) -> 0 | I24: =IF(E24=1,G24*$R$14,0) -> 228.96 | J24: =IF(F24=1,G24*$R$15,0) -> 0 | K24: =IF(G24>=180,D24*$R$13+E24*$R$14+F24*$R$15,H24+I24+J24) -> 228.96 | L24: =IF(D24=1,$R$8,0) -> 0 | M24: =IF(E24=1,$R$9,0) -> 166.96 | N24: =IF(F24=1,$R$10,0) -> 0 | O24: =L24+M24+N24 -> 166.96 | P24: =K24+O24 -> 395.92
A25: azv2909 | B25: 44881 | C25: 44883 | D25: 1 | G25: =C25-B25 -> 2 | H25: =IF(D25=1,G25*$R$13,0) -> 95.4 | I25: =IF(E25=1,G25*$R$14,0) -> 0 | J25: =IF(F25=1,G25*$R$15,0) -> 0 | K25: =IF(G25>=180,D25*$R$13+E25*$R$14+F25*$R$15,H25+I25+J25) -> 95.4 | L25: =IF(D25=1,$R$8,0) -> 262.36 | M25: =IF(E25=1,$R$9,0) -> 0 | N25: =IF(F25=1,$R$10,0) -> 0 | O25: =L25+M25+N25 -> 262.36 | P25: =K25+O25 -> 357.76
A26: pwu8207 | B26: 44882 | C26: 44886 | E26: 1 | G26: =C26-B26 -> 4 | H26: =IF(D26=1,G26*$R$13,0) -> 0 | I26: =IF(E26=1,G26*$R$14,0) -> 114.48 | J26: =IF(F26=1,G26*$R$15,0) -> 0 | K26: =IF(G26>=180,D26*$R$13+E26*$R$14+F26*$R$15,H26+I26+J26) -> 114.48 | L26: =IF(D26=1,$R$8,0) -> 0 | M26: =IF(E26=1,$R$9,0) -> 166.96 | N26: =IF(F26=1,$R$10,0) -> 0 | O26: =L26+M26+N26 -> 166.96 | P26: =K26+O26 -> 281.44
A27: pvy0337 | B27: 44869 | C27: 44886 | E27: 1 | G27: =C27-B27 -> 17 | H27: =IF(D27=1,G27*$R$13,0) -> 0 | I27: =IF(E27=1,G27*$R$14,0) -> 486.54 | J27: =IF(F27=1,G27*$R$15,0) -> 0 | K27: =IF(G27>=180,D27*$R$13+E27*$R$14+F27*$R$15,H27+I27+J27) -> 486.54 | L27: =IF(D27=1,$R$8,0) -> 0 | M27: =IF(E27=1,$R$9,0) -> 166.96 | N27: =IF(F27=1,$R$10,0) -> 0 | O27: =L27+M27+N27 -> 166.96 | P27: =K27+O27 -> 653.5
A28: shb6b94 | B28: 44884 | C28: 44886 | E28: 1 | G28: =C28-B28 -> 2 | H28: =IF(D28=1,G28*$R$13,0) -> 0 | I28: =IF(E28=1,G28*$R$14,0) -> 57.24 | J28: =IF(F28=1,G28*$R$15,0) -> 0 | K28: =IF(G28>=180,D28*$R$13+E28*$R$14+F28*$R$15,H28+I28+J28) -> 57.24 | L28: =IF(D28=1,$R$8,0) -> 0 | M28: =IF(E28=1,$R$9,0) -> 166.96 | N28: =IF(F28=1,$R$10,0) -> 0 | O28: =L28+M28+N28 -> 166.96 | P28: =K28+O28 -> 224.2
A29: lqu4719 | B29: 44877 | C29: 44887 | D29: 1 | G29: =C29-B29 -> 10 | H29: =IF(D29=1,G29*$R$13,0) -> 477 | I29: =IF(E29=1,G29*$R$14,0) -> 0 | J29: =IF(F29=1,G29*$R$15,0) -> 0 | K29: =IF(G29>=180,D29*$R$13+E29*$R$14+F29*$R$15,H29+I29+J29) -> 477 | L29: =IF(D29=1,$R$8,0) -> 262.36 | M29: =IF(E29=1,$R$9,0) -> 0 | N29: =IF(F29=1,$R$10,0) -> 0 | O29: =L29+M29+N29 -> 262.36 | P29: =K29+O29 -> 739.36
A30: gul9210 | B30: 44880 | C30: 44887 | D30: 1 | G30: =C30-B30 -> 7 | H30: =IF(D30=1,G30*$R$13,0) -> 333.9 | I30: =IF(E30=1,G30*$R$14,0) -> 0 | J30: =IF(F30=1,G30*$R$15,0) -> 0 | K30: =IF(G30>=180,D30*$R$13+E30*$R$14+F30*$R$15,H30+I30+J30) -> 333.9 | L30: =IF(D30=1,$R$8,0) -> 262.36 | M30: =IF(E30=1,$R$9,0) -> 0 | N30: =IF(F30=1,$R$10,0) -> 0 | O30: =L30+M30+N30 -> 262.36 | P30: =K30+O30 -> 596.26
A31: hen2a10 | B31: 44887 | C31: 44888 | E31: 1 | G31: =C31-B31 -> 1 | H31: =IF(D31=1,G31*$R$13,0) -> 0 | I31: =IF(E31=1,G31*$R$14,0) -> 28.62 | J31: =IF(F31=1,G31*$R$15,0) -> 0 | K31: =IF(G31>=180,D31*$R$13+E31*$R$14+F31*$R$15,H31+I31+J31) -> 28.62 | L31: =IF(D31=1,$R$8,0) -> 0 | M31: =IF(E31=1,$R$9,0) -> 166.96 | N31: =IF(F31=1,$R$10,0) -> 0 | O31: =L31+M31+N31 -> 166.96 | P31: =K31+O31 -> 195.58
A32: grz4384 | B32: 44887 | C32: 44889 | D32: 1 | G32: =C32-B32 -> 2 | H32: =IF(D32=1,G32*$R$13,0) -> 95.4 | I32: =IF(E32=1,G32*$R$14,0) -> 0 | J32: =IF(F32=1,G32*$R$15,0) -> 0 | K32: =IF(G32>=180,D32*$R$13+E32*$R$14+F32*$R$15,H32+I32+J32) -> 95.4 | L32: =IF(D32=1,$R$8,0) -> 262.36 | M32: =IF(E32=1,$R$9,0) -> 0 | N32: =IF(F32=1,$R$10,0) -> 0 | O32: =L32+M32+N32 -> 262.36 | P32: =K32+O32 -> 357.76
A33: hde1314 | B33: 44887 | C33: 44890 | E33: 1 | G33: =C33-B33 -> 3 | H33: =IF(D33=1,G33*$R$13,0) -> 0 | I33: =IF(E33=1,G33*$R$14,0) -> 85.86 | J33: =IF(F33=1,G33*$R$15,0) -> 0 | K33: =IF(G33>=180,D33*$R$13+E33*$R$14+F33*$R$15,H33+I33+J33) -> 85.86 | L33: =IF(D33=1,$R$8,0) -> 0 | M33: =IF(E33=1,$R$9,0) -> 166.96 | N33: =IF(F33=1,$R$10,0) -> 0 | O33: =L33+M33+N33 -> 166.96 | P33: =K33+O33 -> 252.82
A34: qqw6j89 | B34: 44887 | C34: 44890 | E34: 1 | G34: =C34-B34 -> 3 | H34: =IF(D34=1,G34*$R$13,0) -> 0 | I34: =IF(E34=1,G34*$R$14,0) -> 85.86 | J34: =IF(F34=1,G34*$R$15,0) -> 0 | K34: =IF(G34>=180,D34*$R$13+E34*$R$14+F34*$R$15,H34+I34+J34) -> 85.86 | L34: =IF(D34=1,$R$8,0) -> 0 | M34: =IF(E34=1,$R$9,0) -> 166.96 | N34: =IF(F34=1,$R$10,0) -> 0 | O34: =L34+M34+N34 -> 166.96 | P34: =K34+O34 -> 252.82
A35: hgz9a75 | B35: 44887 | C35: 44890 | D35: 1 | G35: =C35-B35 -> 3 | H35: =IF(D35=1,G35*$R$13,0) -> 143.1 | I35: =IF(E35=1,G35*$R$14,0) -> 0 | J35: =IF(F35=1,G35*$R$15,0) -> 0 | K35: =IF(G35>=180,D35*$R$13+E35*$R$14+F35*$R$15,H35+I35+J35) -> 143.1 | L35: =IF(D35=1,$R$8,0) -> 262.36 | M35: =IF(E35=1,$R$9,0) -> 0 | N35: =IF(F35=1,$R$10,0) -> 0 | O35: =L35+M35+N35 -> 262.36 | P35: =K35+O35 -> 405.46
A36: hfv6796 | B36: 44887 | C36: 44890 | E36: 1 | G36: =C36-B36 -> 3 | H36: =IF(D36=1,G36*$R$13,0) -> 0 | I36: =IF(E36=1,G36*$R$14,0) -> 85.86 | J36: =IF(F36=1,G36*$R$15,0) -> 0 | K36: =IF(G36>=180,D36*$R$13+E36*$R$14+F36*$R$15,H36+I36+J36) -> 85.86 | L36: =IF(D36=1,$R$8,0) -> 0 | M36: =IF(E36=1,$R$9,0) -> 166.96 | N36: =IF(F36=1,$R$10,0) -> 0 | O36: =L36+M36+N36 -> 166.96 | P36: =K36+O36 -> 252.82
A37: gxq9784 | B37: 44887 | C37: 44890 | D37: 1 | G37: =C37-B37 -> 3 | H37: =IF(D37=1,G37*$R$13,0) -> 143.1 | I37: =IF(E37=1,G37*$R$14,0) -> 0 | J37: =IF(F37=1,G37*$R$15,0) -> 0 | K37: =IF(G37>=180,D37*$R$13+E37*$R$14+F37*$R$15,H37+I37+J37) -> 143.1 | L37: =IF(D37=1,$R$8,0) -> 262.36 | M37: =IF(E37=1,$R$9,0) -> 0 | N37: =IF(F37=1,$R$10,0) -> 0 | O37: =L37+M37+N37 -> 262.36 | P37: =K37+O37 -> 405.46
A38: oqq6176 | B38: 44887 | C38: 44890 | D38: 1 | G38: =C38-B38 -> 3 | H38: =IF(D38=1,G38*$R$13,0) -> 143.1 | I38: =IF(E38=1,G38*$R$14,0) -> 0 | J38: =IF(F38=1,G38*$R$15,0) -> 0 | K38: =IF(G38>=180,D38*$R$13+E38*$R$14+F38*$R$15,H38+I38+J38) -> 143.1 | L38: =IF(D38=1,$R$8,0) -> 262.36 | M38: =IF(E38=1,$R$9,0) -> 0 | N38: =IF(F38=1,$R$10,0) -> 0 | O38: =L38+M38+N38 -> 262.36 | P38: =K38+O38 -> 405.46 | S38: Saveiro Elisângela Polícia Civil / Pagou 80,00
A39: qqz9h57 | B39: 44860 | C39: 44890 | E39: 1 | G39: =C39-B39 -> 30 | H39: =IF(D39=1,G39*$R$13,0) -> 0 | I39: =IF(E39=1,G39*$R$14,0) -> 858.6 | J39: =IF(F39=1,G39*$R$15,0) -> 0 | K39: =IF(G39>=180,D39*$R$13+E39*$R$14+F39*$R$15,H39+I39+J39) -> 858.6 | L39: =IF(D39=1,$R$8,0) -> 0 | M39: =IF(E39=1,$R$9,0) -> 166.96 | N39: =IF(F39=1,$R$10,0) -> 0 | O39: =L39+M39+N39 -> 166.96 | P39: =K39+O39 -> 1025.56
A40: ooz0766 | B40: 44887 | C40: 44893 | D40: 1 | G40: =C40-B40 -> 6 | H40: =IF(D40=1,G40*$R$13,0) -> 286.2 | I40: =IF(E40=1,G40*$R$14,0) -> 0 | J40: =IF(F40=1,G40*$R$15,0) -> 0 | K40: =IF(G40>=180,D40*$R$13+E40*$R$14+F40*$R$15,H40+I40+J40) -> 286.2 | L40: =IF(D40=1,$R$8,0) -> 262.36 | M40: =IF(E40=1,$R$9,0) -> 0 | N40: =IF(F40=1,$R$10,0) -> 0 | O40: =L40+M40+N40 -> 262.36 | P40: =K40+O40 -> 548.56
...

Sheet entradas
C4: valor | D4: valor detran
A5: valor em reais das liberaçoes | C5: diaria carro | D5: 47.7
B6: =diarias!P53 -> 27241.94 | C6: diaria moto | D6: 28.62
C7: diaria pesado | D7: 57.24
C9: valor
C10: guincho carro | D10: 262.36
C11: guincho moto | D11: 166.96
C12: guincho pesado | D12: 348.23
C14: tabela numero de apreensao
C15: carro | D15: =diarias!D53 -> 20
C16: moto | D16: =diarias!E53 -> 24
C17: pesado | D17: =diarias!F53 -> 2
D18: =SUM(D15:D17) -> 46
B20: total diarias | C20: carro | D20: =diarias!H53 -> 11304.9
C21: moto | D21: =diarias!I53 -> 5437.8
C22: pesado | D22: =diarias!J53 -> 858.6
D23: =SUM(D20:D22) -> 17601.3
B25: tot6al guincho valor | D25: =D15*D10 -> 5247.2
D26: =D16*D11 -> 4007.04
D27: =D17*D12 -> 696.46
D28: =SUM(D25:D27) -> 9950.7
C30: TOTAL | D30: =D23+D28 -> 27552

Sheet totais
A1: totais
